BEGIN:VCALENDAR
VERSION:2.0
PRODID:-//Bahamas Maritime Authority - ECPv6.15.20//NONSGML v1.0//EN
CALSCALE:GREGORIAN
METHOD:PUBLISH
X-ORIGINAL-URL:https://www.bahamasmaritime.com
X-WR-CALDESC:Events for Bahamas Maritime Authority
REFRESH-INTERVAL;VALUE=DURATION:PT1H
X-Robots-Tag:noindex
X-PUBLISHED-TTL:PT1H
BEGIN:VTIMEZONE
TZID:America/Nassau
BEGIN:DAYLIGHT
TZOFFSETFROM:-0500
TZOFFSETTO:-0400
TZNAME:EDT
DTSTART:20200308T070000
END:DAYLIGHT
BEGIN:STANDARD
TZOFFSETFROM:-0400
TZOFFSETTO:-0500
TZNAME:EST
DTSTART:20201101T060000
END:STANDARD
BEGIN:DAYLIGHT
TZOFFSETFROM:-0500
TZOFFSETTO:-0400
TZNAME:EDT
DTSTART:20210314T070000
END:DAYLIGHT
BEGIN:STANDARD
TZOFFSETFROM:-0400
TZOFFSETTO:-0500
TZNAME:EST
DTSTART:20211107T060000
END:STANDARD
BEGIN:DAYLIGHT
TZOFFSETFROM:-0500
TZOFFSETTO:-0400
TZNAME:EDT
DTSTART:20220313T070000
END:DAYLIGHT
BEGIN:STANDARD
TZOFFSETFROM:-0400
TZOFFSETTO:-0500
TZNAME:EST
DTSTART:20221106T060000
END:STANDARD
BEGIN:DAYLIGHT
TZOFFSETFROM:-0500
TZOFFSETTO:-0400
TZNAME:EDT
DTSTART:20230312T070000
END:DAYLIGHT
BEGIN:STANDARD
TZOFFSETFROM:-0400
TZOFFSETTO:-0500
TZNAME:EST
DTSTART:20231105T060000
END:STANDARD
BEGIN:DAYLIGHT
TZOFFSETFROM:-0500
TZOFFSETTO:-0400
TZNAME:EDT
DTSTART:20240310T070000
END:DAYLIGHT
BEGIN:STANDARD
TZOFFSETFROM:-0400
TZOFFSETTO:-0500
TZNAME:EST
DTSTART:20241103T060000
END:STANDARD
BEGIN:DAYLIGHT
TZOFFSETFROM:-0500
TZOFFSETTO:-0400
TZNAME:EDT
DTSTART:20250309T070000
END:DAYLIGHT
BEGIN:STANDARD
TZOFFSETFROM:-0400
TZOFFSETTO:-0500
TZNAME:EST
DTSTART:20251102T060000
END:STANDARD
BEGIN:DAYLIGHT
TZOFFSETFROM:-0500
TZOFFSETTO:-0400
TZNAME:EDT
DTSTART:20260308T070000
END:DAYLIGHT
BEGIN:STANDARD
TZOFFSETFROM:-0400
TZOFFSETTO:-0500
TZNAME:EST
DTSTART:20261101T060000
END:STANDARD
END:VTIMEZONE
BEGIN:VEVENT
DTSTART;VALUE=DATE:20250407
DTEND;VALUE=DATE:20250411
DTSTAMP:20260422T111058
CREATED:20250314T160340Z
LAST-MODIFIED:20250314T160340Z
UID:10000277-1743984000-1744329599@www.bahamasmaritime.com
SUMMARY:Seatrade Cruise Global 2025
DESCRIPTION:Seatrade Cruise Global is a leading annual event for the cruise industry\, bringing together professionals\, suppliers\, and experts to network\, share insights\, and showcase innovations.
URL:https://www.bahamasmaritime.com/event/seatrade-cruise-global-2025/
LOCATION:Miami beach convention center\, Convention Center Dr\, Miami\, FL 33139\, United States
CATEGORIES:BMA
END:VEVENT
BEGIN:VEVENT
DTSTART;VALUE=DATE:20230525
DTEND;VALUE=DATE:20230528
DTSTAMP:20260422T111058
CREATED:20230517T143524Z
LAST-MODIFIED:20230517T143524Z
UID:10000244-1684972800-1685231999@www.bahamasmaritime.com
SUMMARY:Bari-Ship 2023
DESCRIPTION:The theme in 2023 is “Ships of the Future\, today”.
URL:https://www.bahamasmaritime.com/event/bari-ship-2023-ships-of-the-future/
CATEGORIES:BMA
END:VEVENT
BEGIN:VEVENT
DTSTART;VALUE=DATE:20230327
DTEND;VALUE=DATE:20230331
DTSTAMP:20260422T111058
CREATED:20230213T155643Z
LAST-MODIFIED:20230213T155643Z
UID:10000235-1679875200-1680220799@www.bahamasmaritime.com
SUMMARY:Seatrade Cruise Global 2023
DESCRIPTION:
URL:https://www.bahamasmaritime.com/event/seatrade-cruise-global-2023/
LOCATION:Fort Lauderdale Broward County Convention Center\, 1950 Eisenhower Blvd\, Fort Lauderdale\, FL 33316
CATEGORIES:BMA
END:VEVENT
BEGIN:VEVENT
DTSTART;VALUE=DATE:20210927
DTEND;VALUE=DATE:20211001
DTSTAMP:20260422T111058
CREATED:20210927T112015Z
LAST-MODIFIED:20210927T112015Z
UID:10000201-1632700800-1633046399@www.bahamasmaritime.com
SUMMARY:Seatrade Cruise Global
DESCRIPTION:The Seatrade Cruise Global is back! \nFor those able to travel to Miami\, get ready for inspirational speakers\, innovative products\, breath-taking destinations\, great content and\, above all\, the chance to reconnect safely with friends and colleagues. For those unable to attend in person\, we’ve developed a virtual event experience that provides extensive access and inclusivity no matter where you are in the world. \n 
URL:https://www.bahamasmaritime.com/event/seatrade-cruise-global-miami-expo-and-conference/
CATEGORIES:IMO
END:VEVENT
END:VCALENDAR