BEGIN:VCALENDAR
VERSION:2.0
PRODID:-//Bahamas Maritime Authority - ECPv6.15.20//NONSGML v1.0//EN
CALSCALE:GREGORIAN
METHOD:PUBLISH
X-WR-CALNAME:Bahamas Maritime Authority
X-ORIGINAL-URL:https://www.bahamasmaritime.com
X-WR-CALDESC:Events for Bahamas Maritime Authority
REFRESH-INTERVAL;VALUE=DURATION:PT1H
X-Robots-Tag:noindex
X-PUBLISHED-TTL:PT1H
BEGIN:VTIMEZONE
TZID:America/New_York
BEGIN:DAYLIGHT
TZOFFSETFROM:-0500
TZOFFSETTO:-0400
TZNAME:EDT
DTSTART:20200308T070000
END:DAYLIGHT
BEGIN:STANDARD
TZOFFSETFROM:-0400
TZOFFSETTO:-0500
TZNAME:EST
DTSTART:20201101T060000
END:STANDARD
BEGIN:DAYLIGHT
TZOFFSETFROM:-0500
TZOFFSETTO:-0400
TZNAME:EDT
DTSTART:20210314T070000
END:DAYLIGHT
BEGIN:STANDARD
TZOFFSETFROM:-0400
TZOFFSETTO:-0500
TZNAME:EST
DTSTART:20211107T060000
END:STANDARD
BEGIN:DAYLIGHT
TZOFFSETFROM:-0500
TZOFFSETTO:-0400
TZNAME:EDT
DTSTART:20220313T070000
END:DAYLIGHT
BEGIN:STANDARD
TZOFFSETFROM:-0400
TZOFFSETTO:-0500
TZNAME:EST
DTSTART:20221106T060000
END:STANDARD
END:VTIMEZONE
BEGIN:VEVENT
DTSTART;TZID=America/New_York:20210202T083000
DTEND;TZID=America/New_York:20210202T150000
DTSTAMP:20260423T105131
CREATED:20210202T101055Z
LAST-MODIFIED:20210202T101746Z
UID:10000164-1612254600-1612278000@www.bahamasmaritime.com
SUMMARY:The 27th Annual HACC NACC Shipping Conference
DESCRIPTION:The 27th annual HACC-NACC shipping conference in New York City\, hosted by the Hellenic American and  Norwegian American Chambers of Commerce.​ \nNavigating Uncharted Waters:\nShipping in a Pandemic Age\nVirtual Event Webcast – Tuesday\, February 2\, 2021\, 8:30 am EST
URL:https://www.bahamasmaritime.com/event/navigating-uncharted-waters-shipping-in-a-pandemic-age/
LOCATION:Virtual Event
CATEGORIES:Virtual Events
ORGANIZER;CN="The Hellenic-American & Norwegian-American Chambers of Commerce":MAILTO:info@naccusa.org
END:VEVENT
END:VCALENDAR