BEGIN:VCALENDAR
VERSION:2.0
PRODID:-//Bahamas Maritime Authority - ECPv6.15.20//NONSGML v1.0//EN
CALSCALE:GREGORIAN
METHOD:PUBLISH
X-ORIGINAL-URL:https://www.bahamasmaritime.com
X-WR-CALDESC:Events for Bahamas Maritime Authority
REFRESH-INTERVAL;VALUE=DURATION:PT1H
X-Robots-Tag:noindex
X-PUBLISHED-TTL:PT1H
BEGIN:VTIMEZONE
TZID:America/Nassau
BEGIN:DAYLIGHT
TZOFFSETFROM:-0500
TZOFFSETTO:-0400
TZNAME:EDT
DTSTART:20200308T070000
END:DAYLIGHT
BEGIN:STANDARD
TZOFFSETFROM:-0400
TZOFFSETTO:-0500
TZNAME:EST
DTSTART:20201101T060000
END:STANDARD
BEGIN:DAYLIGHT
TZOFFSETFROM:-0500
TZOFFSETTO:-0400
TZNAME:EDT
DTSTART:20210314T070000
END:DAYLIGHT
BEGIN:STANDARD
TZOFFSETFROM:-0400
TZOFFSETTO:-0500
TZNAME:EST
DTSTART:20211107T060000
END:STANDARD
BEGIN:DAYLIGHT
TZOFFSETFROM:-0500
TZOFFSETTO:-0400
TZNAME:EDT
DTSTART:20220313T070000
END:DAYLIGHT
BEGIN:STANDARD
TZOFFSETFROM:-0400
TZOFFSETTO:-0500
TZNAME:EST
DTSTART:20221106T060000
END:STANDARD
END:VTIMEZONE
BEGIN:VEVENT
DTSTART;VALUE=DATE:20210302
DTEND;VALUE=DATE:20210304
DTSTAMP:20260423T074442
CREATED:20210128T164258Z
LAST-MODIFIED:20210128T164258Z
UID:10000163-1614643200-1614815999@www.bahamasmaritime.com
SUMMARY:3rd Greentech in Shipping Virtual Forum
DESCRIPTION:Recent years have taught the shipping industry that each industry player can succeed only provided that all stakeholders enter a dialogue and work together. The shipping industry is peculiar and\, nonetheless\, exciting because it comprises a number of parties who hold a different and very significant role within the sector. It is critical to hear from all of them. At the Forum you will find out from the regulators\, government bodies and major ports’ representatives what the near future holds for ship builders and operators as well as learn about latest innovations and modern technologies from top technology developers. \nTopics: \nRegulations and their impact on shipping industry \nEngineering Solutions for Sustainability and Better Efficiency \nDigital Shipping \nFuture Fuels
URL:https://www.bahamasmaritime.com/event/3rd-greentech-in-shipping-virtual-forum/
CATEGORIES:Virtual Events
ORGANIZER;CN="ALJ Group":MAILTO:info@alj-group.com
END:VEVENT
END:VCALENDAR