BEGIN:VCALENDAR
VERSION:2.0
PRODID:-//Bahamas Maritime Authority - ECPv6.15.20//NONSGML v1.0//EN
CALSCALE:GREGORIAN
METHOD:PUBLISH
X-ORIGINAL-URL:https://www.bahamasmaritime.com
X-WR-CALDESC:Events for Bahamas Maritime Authority
REFRESH-INTERVAL;VALUE=DURATION:PT1H
X-Robots-Tag:noindex
X-PUBLISHED-TTL:PT1H
BEGIN:VTIMEZONE
TZID:America/Nassau
BEGIN:DAYLIGHT
TZOFFSETFROM:-0500
TZOFFSETTO:-0400
TZNAME:EDT
DTSTART:20240310T070000
END:DAYLIGHT
BEGIN:STANDARD
TZOFFSETFROM:-0400
TZOFFSETTO:-0500
TZNAME:EST
DTSTART:20241103T060000
END:STANDARD
BEGIN:DAYLIGHT
TZOFFSETFROM:-0500
TZOFFSETTO:-0400
TZNAME:EDT
DTSTART:20250309T070000
END:DAYLIGHT
BEGIN:STANDARD
TZOFFSETFROM:-0400
TZOFFSETTO:-0500
TZNAME:EST
DTSTART:20251102T060000
END:STANDARD
BEGIN:DAYLIGHT
TZOFFSETFROM:-0500
TZOFFSETTO:-0400
TZNAME:EDT
DTSTART:20260308T070000
END:DAYLIGHT
BEGIN:STANDARD
TZOFFSETFROM:-0400
TZOFFSETTO:-0500
TZNAME:EST
DTSTART:20261101T060000
END:STANDARD
END:VTIMEZONE
BEGIN:VEVENT
DTSTART;VALUE=DATE:20250210
DTEND;VALUE=DATE:20250215
DTSTAMP:20260420T200043
CREATED:20250314T155034Z
LAST-MODIFIED:20250314T155034Z
UID:10000273-1739145600-1739577599@www.bahamasmaritime.com
SUMMARY:IMO SUB-COMMITTEE  ON  HUMAN  ELEMENT\,  TRAINING  AND WATCHKEEPING (HTW) – 11th session
DESCRIPTION:The Sub-Committee on Human Element\, Training and Watchkeeping (HTW) deals with the human side of shipping\, including training and certification; the review\, updating and revision of IMO model courses; and guidance addressing issues such as fatigue. \n 
URL:https://www.bahamasmaritime.com/event/imo-sub-committee-on-human-element-training-and-watchkeeping-htw-11th-session/
LOCATION:IMO\, 4 Albert Embankment\, London\, SE1 7SR\, United Kingdom
CATEGORIES:BMA,IMO
END:VEVENT
END:VCALENDAR